BEGIN:VCALENDAR
VERSION:2.0
PRODID:-//St. John Roman Catholic Church - Westminster, MD - ECPv6.15.18//NONSGML v1.0//EN
CALSCALE:GREGORIAN
METHOD:PUBLISH
X-ORIGINAL-URL:https://sjwest.org
X-WR-CALDESC:Events for St. John Roman Catholic Church - Westminster, MD
REFRESH-INTERVAL;VALUE=DURATION:PT1H
X-Robots-Tag:noindex
X-PUBLISHED-TTL:PT1H
BEGIN:VTIMEZONE
TZID:America/New_York
BEGIN:DAYLIGHT
TZOFFSETFROM:-0500
TZOFFSETTO:-0400
TZNAME:EDT
DTSTART:20250309T070000
END:DAYLIGHT
BEGIN:STANDARD
TZOFFSETFROM:-0400
TZOFFSETTO:-0500
TZNAME:EST
DTSTART:20251102T060000
END:STANDARD
BEGIN:DAYLIGHT
TZOFFSETFROM:-0500
TZOFFSETTO:-0400
TZNAME:EDT
DTSTART:20260308T070000
END:DAYLIGHT
BEGIN:STANDARD
TZOFFSETFROM:-0400
TZOFFSETTO:-0500
TZNAME:EST
DTSTART:20261101T060000
END:STANDARD
BEGIN:DAYLIGHT
TZOFFSETFROM:-0500
TZOFFSETTO:-0400
TZNAME:EDT
DTSTART:20270314T070000
END:DAYLIGHT
BEGIN:STANDARD
TZOFFSETFROM:-0400
TZOFFSETTO:-0500
TZNAME:EST
DTSTART:20271107T060000
END:STANDARD
END:VTIMEZONE
BEGIN:VEVENT
DTSTART;TZID=America/New_York:20260503T080000
DTEND;TZID=America/New_York:20260503T110000
DTSTAMP:20260422T063757
CREATED:20240222T200946Z
LAST-MODIFIED:20260420T131656Z
UID:10007362-1777795200-1777806000@sjwest.org
SUMMARY:Parish Breakfast
DESCRIPTION:Parish Breakfast\nJoin the Knights of Columbus Council #1393 for their next parish breakfast in the Portico. Come enjoy delicious food and fellowship with friends! \nAll proceeds will benefit the Knights of Columbus’s charities.
URL:https://sjwest.org/event/parish-breakfast/
LOCATION:Portico at St. John Westminster\, 43 Monroe St.\, Westminster\, MD\, 21157\, United States
ATTACH;FMTTYPE=image/jpeg:https://sjwest.org/wp-content/uploads/2024/02/KoC-Parish-Breakfast-NEW-WEB.jpg
GEO:39.5860395;-76.9928496
X-APPLE-STRUCTURED-LOCATION;VALUE=URI;X-ADDRESS=Portico at St. John Westminster 43 Monroe St. Westminster MD 21157 United States;X-APPLE-RADIUS=500;X-TITLE=43 Monroe St.:geo:-76.9928496,39.5860395
END:VEVENT
BEGIN:VEVENT
DTSTART;TZID=America/New_York:20260515T173000
DTEND;TZID=America/New_York:20260515T173000
DTSTAMP:20260422T063757
CREATED:20240329T133419Z
LAST-MODIFIED:20260205T155129Z
UID:10008206-1778866200-1778866200@sjwest.org
SUMMARY:CommUNITY Bingo Nights: Carroll County Food Sunday
DESCRIPTION:St. John Portico \nJoin us for bingo with Carroll County Food Sunday! Enjoy the game with yummy food for purchase and help support CCFS’s work to feed those in need in our community. Cash prizes and designer bag and basket packages are all up for the win! \nCCFS FOOD DRIVE:\nDonate a canned good or boxed item = Get $1 off your food!\nDonate 2+ canned goods or boxed items = Get $1 off food AND entry into a raffle! \nGame begins at 6:30pm (Doors open at 5:30pm). \nTickets: $20\nIf not sold out\, tickets available at the door\nNO REFUNDS \nSupporting our community partner\, St. John School\, and Faith Formation
URL:https://sjwest.org/event/ccfs-bingo/
LOCATION:Portico at St. John Westminster\, 43 Monroe St.\, Westminster\, MD\, 21157\, United States
ATTACH;FMTTYPE=image/jpeg:https://sjwest.org/wp-content/uploads/2017/09/Bingo-WEB-event.jpg
GEO:39.5860395;-76.9928496
X-APPLE-STRUCTURED-LOCATION;VALUE=URI;X-ADDRESS=Portico at St. John Westminster 43 Monroe St. Westminster MD 21157 United States;X-APPLE-RADIUS=500;X-TITLE=43 Monroe St.:geo:-76.9928496,39.5860395
END:VEVENT
BEGIN:VEVENT
DTSTART;TZID=America/New_York:20260516T180000
DTEND;TZID=America/New_York:20260516T220000
DTSTAMP:20260422T063757
CREATED:20240314T140306Z
LAST-MODIFIED:20260420T134826Z
UID:10008205-1778954400-1778968800@sjwest.org
SUMMARY:Sock Hop (Knights of Columbus)
DESCRIPTION:Sponsored by the Knights of Columbus\, Council #1393 \nJoin the Knights for their annual Sock Hop! Pizza\, sodas\, and dancing to DJ Steve Leon make it a party you can’t miss. BYOB!\nOther snacks will be sold by LIFETEEN. \nLighting designed by John Suehle. \n$18 Individual\n$30 Couple\n$50 Family
URL:https://sjwest.org/event/sock-hop/
LOCATION:Portico at St. John Westminster\, 43 Monroe St.\, Westminster\, MD\, 21157\, United States
ATTACH;FMTTYPE=image/jpeg:https://sjwest.org/wp-content/uploads/2024/03/Sock-Hop-WEB-event-1.jpg
GEO:39.5860395;-76.9928496
X-APPLE-STRUCTURED-LOCATION;VALUE=URI;X-ADDRESS=Portico at St. John Westminster 43 Monroe St. Westminster MD 21157 United States;X-APPLE-RADIUS=500;X-TITLE=43 Monroe St.:geo:-76.9928496,39.5860395
END:VEVENT
BEGIN:VEVENT
DTSTART;TZID=America/New_York:20260612T173000
DTEND;TZID=America/New_York:20260612T173000
DTSTAMP:20260422T063757
CREATED:20240329T133442Z
LAST-MODIFIED:20260205T160156Z
UID:10008207-1781285400-1781285400@sjwest.org
SUMMARY:CommUNITY Bingo Nights: The Shepherd's Staff
DESCRIPTION:St. John Portico \nJoin us for bingo with the Shepherd’s Staff! Cash prizes and designer bag and basket packages are all up for the win. Enjoy the game with yummy food for purchase and help support Shepherd’s Staff mission to provide assistance to those in need in our community. Bingo attendees can help contribute donations to their annual Back to School drive to get families in need ready for the school year. \nSHEPHERD’S STAFF SCHOOL SUPPLY DRIVE:\nDonate one school supply item = Get $1 off your food!\nDonate 2+ school supplies = Get $1 off food AND entry into a special raffle! \nGame begins at 6:30pm (Doors open at 5:30pm). \nTickets: $20\nIf sold out\, tickets available at the door\nNO REFUNDS \nSupporting our community partner\, St. John School\, and Faith Formation
URL:https://sjwest.org/event/shep-staff-bingo/
LOCATION:Portico at St. John Westminster\, 43 Monroe St.\, Westminster\, MD\, 21157\, United States
ATTACH;FMTTYPE=image/jpeg:https://sjwest.org/wp-content/uploads/2017/09/Bingo-WEB-event.jpg
GEO:39.5860395;-76.9928496
X-APPLE-STRUCTURED-LOCATION;VALUE=URI;X-ADDRESS=Portico at St. John Westminster 43 Monroe St. Westminster MD 21157 United States;X-APPLE-RADIUS=500;X-TITLE=43 Monroe St.:geo:-76.9928496,39.5860395
END:VEVENT
BEGIN:VEVENT
DTSTART;TZID=America/New_York:20260629T083000
DTEND;TZID=America/New_York:20260702T120000
DTSTAMP:20260422T063757
CREATED:20250507T162018Z
LAST-MODIFIED:20260414T144314Z
UID:10008674-1782721800-1782993600@sjwest.org
SUMMARY:RAINFOREST FALLS: Vacation Bible School
DESCRIPTION:We’re Going to The Rainforest!\nThis summer\, send your kids on a lush rainforest adventure\, where children discover the beauty and wonder of God’s creation while growing in their Catholic faith. Throughout this exciting week\, participants will explore the nature of God — learning that He is powerful\, faithful\, loving\, creative\, and our safe refuge in every storm. \n\nVBS is open to rising kindergartners through 5th graders.\nTeen volunteers can register for $15.\nAdult volunteers receive free registration for their children AND we provide childcare for littles.\n\nGet more info and register here! \nRegistration DEADLINE: June 3\, 2026
URL:https://sjwest.org/event/rainforest-falls-vbs/
LOCATION:Portico at St. John Westminster\, 43 Monroe St.\, Westminster\, MD\, 21157\, United States
ATTACH;FMTTYPE=image/jpeg:https://sjwest.org/wp-content/uploads/2025/05/Rainforest-Falls-VBS-WEB.jpg
GEO:39.5860395;-76.9928496
X-APPLE-STRUCTURED-LOCATION;VALUE=URI;X-ADDRESS=Portico at St. John Westminster 43 Monroe St. Westminster MD 21157 United States;X-APPLE-RADIUS=500;X-TITLE=43 Monroe St.:geo:-76.9928496,39.5860395
END:VEVENT
END:VCALENDAR